BEGIN:VCALENDAR
VERSION:2.0
PRODID:-//SCHÜTZENGILDE GOLLENSHAUSEN - ECPv6.15.20//NONSGML v1.0//EN
CALSCALE:GREGORIAN
METHOD:PUBLISH
X-WR-CALNAME:SCHÜTZENGILDE GOLLENSHAUSEN
X-ORIGINAL-URL:https://sg-gollenshausen.de
X-WR-CALDESC:Veranstaltungen für SCHÜTZENGILDE GOLLENSHAUSEN
REFRESH-INTERVAL;VALUE=DURATION:PT1H
X-Robots-Tag:noindex
X-PUBLISHED-TTL:PT1H
BEGIN:VTIMEZONE
TZID:Europe/Berlin
BEGIN:DAYLIGHT
TZOFFSETFROM:+0100
TZOFFSETTO:+0200
TZNAME:CEST
DTSTART:20210328T010000
END:DAYLIGHT
BEGIN:STANDARD
TZOFFSETFROM:+0200
TZOFFSETTO:+0100
TZNAME:CET
DTSTART:20211031T010000
END:STANDARD
BEGIN:DAYLIGHT
TZOFFSETFROM:+0100
TZOFFSETTO:+0200
TZNAME:CEST
DTSTART:20220327T010000
END:DAYLIGHT
BEGIN:STANDARD
TZOFFSETFROM:+0200
TZOFFSETTO:+0100
TZNAME:CET
DTSTART:20221030T010000
END:STANDARD
BEGIN:DAYLIGHT
TZOFFSETFROM:+0100
TZOFFSETTO:+0200
TZNAME:CEST
DTSTART:20230326T010000
END:DAYLIGHT
BEGIN:STANDARD
TZOFFSETFROM:+0200
TZOFFSETTO:+0100
TZNAME:CET
DTSTART:20231029T010000
END:STANDARD
END:VTIMEZONE
BEGIN:VEVENT
DTSTART;TZID=Europe/Berlin:20221009T100000
DTEND;TZID=Europe/Berlin:20221009T120000
DTSTAMP:20260421T145746
CREATED:20221007T083256Z
LAST-MODIFIED:20221007T083256Z
UID:2112-1665309600-1665316800@sg-gollenshausen.de
SUMMARY:Weisertwecken Noppinger Schorsch und Evelyn
DESCRIPTION:Treffpunkt 10:00 beim Urban-Hof\, Familie Reif in Söll.
URL:https://sg-gollenshausen.de/event/weisertwecken-noppinger-schorsch-und-evelyn/
LOCATION:Startpunkt: Urban-Hof\, Familie Reif in Söll\, Urban-Hof\, Söll\, 83257
END:VEVENT
END:VCALENDAR