BEGIN:VCALENDAR
VERSION:2.0
PRODID:-//SCHÜTZENGILDE GOLLENSHAUSEN - ECPv6.15.20//NONSGML v1.0//EN
CALSCALE:GREGORIAN
METHOD:PUBLISH
X-ORIGINAL-URL:https://sg-gollenshausen.de
X-WR-CALDESC:Veranstaltungen für SCHÜTZENGILDE GOLLENSHAUSEN
REFRESH-INTERVAL;VALUE=DURATION:PT1H
X-Robots-Tag:noindex
X-PUBLISHED-TTL:PT1H
BEGIN:VTIMEZONE
TZID:Europe/Berlin
BEGIN:DAYLIGHT
TZOFFSETFROM:+0100
TZOFFSETTO:+0200
TZNAME:CEST
DTSTART:20220327T010000
END:DAYLIGHT
BEGIN:STANDARD
TZOFFSETFROM:+0200
TZOFFSETTO:+0100
TZNAME:CET
DTSTART:20221030T010000
END:STANDARD
BEGIN:DAYLIGHT
TZOFFSETFROM:+0100
TZOFFSETTO:+0200
TZNAME:CEST
DTSTART:20230326T010000
END:DAYLIGHT
BEGIN:STANDARD
TZOFFSETFROM:+0200
TZOFFSETTO:+0100
TZNAME:CET
DTSTART:20231029T010000
END:STANDARD
BEGIN:DAYLIGHT
TZOFFSETFROM:+0100
TZOFFSETTO:+0200
TZNAME:CEST
DTSTART:20240331T010000
END:DAYLIGHT
BEGIN:STANDARD
TZOFFSETFROM:+0200
TZOFFSETTO:+0100
TZNAME:CET
DTSTART:20241027T010000
END:STANDARD
END:VTIMEZONE
BEGIN:VEVENT
DTSTART;VALUE=DATE:20230113
DTEND;VALUE=DATE:20230114
DTSTAMP:20260421T105730
CREATED:20221119T151757Z
LAST-MODIFIED:20221119T151757Z
UID:2247-1673568000-1673654399@sg-gollenshausen.de
SUMMARY:Stammhalterscheibe Noppinger Georg
DESCRIPTION:Gestiftet von den stolzen Eltern Noppinger Schorsch & Evelyn
URL:https://sg-gollenshausen.de/event/stammhalterscheibe-noppinger-georg/
LOCATION:Vereinsheim\, Kirchplatz 10\, Gollenshausen a. Chiemsee\, 83257
END:VEVENT
BEGIN:VEVENT
DTSTART;TZID=Europe/Berlin:20230113T170000
DTEND;TZID=Europe/Berlin:20230113T220000
DTSTAMP:20260421T105730
CREATED:20220921T165514Z
LAST-MODIFIED:20220921T165514Z
UID:2080-1673629200-1673647200@sg-gollenshausen.de
SUMMARY:Traditionsschießen Teil 4
DESCRIPTION:
URL:https://sg-gollenshausen.de/event/traditionsschiessen-teil-4-2/
LOCATION:Vereinsheim\, Kirchplatz 10\, Gollenshausen a. Chiemsee\, 83257
ORGANIZER;CN="Sch%C3%BCtzengilde Gollenshausen":MAILTO:info@sg-gollenshausen.de
END:VEVENT
END:VCALENDAR