BEGIN:VCALENDAR
VERSION:2.0
PRODID:-//SCHÜTZENGILDE GOLLENSHAUSEN - ECPv6.15.20//NONSGML v1.0//EN
CALSCALE:GREGORIAN
METHOD:PUBLISH
X-ORIGINAL-URL:https://sg-gollenshausen.de
X-WR-CALDESC:Veranstaltungen für SCHÜTZENGILDE GOLLENSHAUSEN
REFRESH-INTERVAL;VALUE=DURATION:PT1H
X-Robots-Tag:noindex
X-PUBLISHED-TTL:PT1H
BEGIN:VTIMEZONE
TZID:Europe/Berlin
BEGIN:DAYLIGHT
TZOFFSETFROM:+0100
TZOFFSETTO:+0200
TZNAME:CEST
DTSTART:20240331T010000
END:DAYLIGHT
BEGIN:STANDARD
TZOFFSETFROM:+0200
TZOFFSETTO:+0100
TZNAME:CET
DTSTART:20241027T010000
END:STANDARD
BEGIN:DAYLIGHT
TZOFFSETFROM:+0100
TZOFFSETTO:+0200
TZNAME:CEST
DTSTART:20250330T010000
END:DAYLIGHT
BEGIN:STANDARD
TZOFFSETFROM:+0200
TZOFFSETTO:+0100
TZNAME:CET
DTSTART:20251026T010000
END:STANDARD
BEGIN:DAYLIGHT
TZOFFSETFROM:+0100
TZOFFSETTO:+0200
TZNAME:CEST
DTSTART:20260329T010000
END:DAYLIGHT
BEGIN:STANDARD
TZOFFSETFROM:+0200
TZOFFSETTO:+0100
TZNAME:CET
DTSTART:20261025T010000
END:STANDARD
BEGIN:DAYLIGHT
TZOFFSETFROM:+0100
TZOFFSETTO:+0200
TZNAME:CEST
DTSTART:20270328T010000
END:DAYLIGHT
BEGIN:STANDARD
TZOFFSETFROM:+0200
TZOFFSETTO:+0100
TZNAME:CET
DTSTART:20271031T010000
END:STANDARD
END:VTIMEZONE
BEGIN:VEVENT
DTSTART;TZID=Europe/Berlin:20260410T170000
DTEND;TZID=Europe/Berlin:20260410T213000
DTSTAMP:20260420T113634
CREATED:20250921T162002Z
LAST-MODIFIED:20250921T162002Z
UID:4066-1775840400-1775856600@sg-gollenshausen.de
SUMMARY:Jahrespreisverteilung mit Stutzenscheibe
DESCRIPTION:Lichtgewehr 17:00 | Jugend 18:00 | Erwachsene 19:30
URL:https://sg-gollenshausen.de/event/jahrespreisverteilung-mit-stutzenscheibe-4/
LOCATION:Vereinsheim\, Kirchplatz 10\, Gollenshausen a. Chiemsee\, 83257
END:VEVENT
BEGIN:VEVENT
DTSTART;TZID=Europe/Berlin:20260327T170000
DTEND;TZID=Europe/Berlin:20260327T213000
DTSTAMP:20260420T113634
CREATED:20250921T161842Z
LAST-MODIFIED:20250921T161842Z
UID:4064-1774630800-1774647000@sg-gollenshausen.de
SUMMARY:Endschießen mit Endscheibe
DESCRIPTION:Lichtgewehr 17:00 | Jugend 18:00 | Erwachsene 19:30
URL:https://sg-gollenshausen.de/event/endschiessen-mit-endscheibe-5/
LOCATION:Vereinsheim\, Kirchplatz 10\, Gollenshausen a. Chiemsee\, 83257
END:VEVENT
BEGIN:VEVENT
DTSTART;TZID=Europe/Berlin:20260320T170000
DTEND;TZID=Europe/Berlin:20260320T210000
DTSTAMP:20260420T113634
CREATED:20260111T150002Z
LAST-MODIFIED:20260111T150002Z
UID:4266-1774026000-1774040400@sg-gollenshausen.de
SUMMARY:Taufscheibe Tamara Schnell
DESCRIPTION:Lichtgewehr 17:00 | Jugend 18:00 | Erwachsene 19:30
URL:https://sg-gollenshausen.de/event/taufscheibe-tamara-schnell/
LOCATION:Vereinsheim\, Kirchplatz 10\, Gollenshausen a. Chiemsee\, 83257
END:VEVENT
BEGIN:VEVENT
DTSTART;TZID=Europe/Berlin:20260313T170000
DTEND;TZID=Europe/Berlin:20260313T213000
DTSTAMP:20260420T113634
CREATED:20250921T161749Z
LAST-MODIFIED:20250921T161749Z
UID:4062-1773421200-1773437400@sg-gollenshausen.de
SUMMARY:Traditionsschießen Teil 6
DESCRIPTION:Lichtgewehr 17:00 | Jugend 18:00 | Erwachsene 19:30
URL:https://sg-gollenshausen.de/event/traditionsschiessen-teil-6-5/
LOCATION:Vereinsheim\, Kirchplatz 10\, Gollenshausen a. Chiemsee\, 83257
END:VEVENT
BEGIN:VEVENT
DTSTART;TZID=Europe/Berlin:20260306T170000
DTEND;TZID=Europe/Berlin:20260306T213000
DTSTAMP:20260420T113634
CREATED:20250921T161714Z
LAST-MODIFIED:20260118T161400Z
UID:4060-1772816400-1772832600@sg-gollenshausen.de
SUMMARY:Vereinsscheibe
DESCRIPTION:Lichtgewehr 17:00 | Jugend 18:00 | Erwachsene 19:30
URL:https://sg-gollenshausen.de/event/vereinsscheibe-5/
LOCATION:Vereinsheim\, Kirchplatz 10\, Gollenshausen a. Chiemsee\, 83257
END:VEVENT
BEGIN:VEVENT
DTSTART;TZID=Europe/Berlin:20260227T193000
DTEND;TZID=Europe/Berlin:20260227T213000
DTSTAMP:20260420T113634
CREATED:20250921T160703Z
LAST-MODIFIED:20251116T171208Z
UID:4036-1772220600-1772227800@sg-gollenshausen.de
SUMMARY:Freundschaftsschießen bei den Altschützen in Eggstätt
DESCRIPTION:Wegen eines Terminkonflikts beim Unterwirt musste der Termin neu festgelegt werden. \nNeuer Termin 27. Februar 2026 (vorher 28. November 2025).
URL:https://sg-gollenshausen.de/event/freundschaftsschiessen-bei-den-altschuetzen-in-eggstaett/
END:VEVENT
BEGIN:VEVENT
DTSTART;TZID=Europe/Berlin:20260220T170000
DTEND;TZID=Europe/Berlin:20260220T213000
DTSTAMP:20260420T113634
CREATED:20250921T161624Z
LAST-MODIFIED:20250921T161624Z
UID:4058-1771606800-1771623000@sg-gollenshausen.de
SUMMARY:Traditionsschießen Teil 5
DESCRIPTION:Lichtgewehr 17:00 | Jugend 18:00 | Erwachsene 19:30
URL:https://sg-gollenshausen.de/event/traditionsschiessen-teil-5-5/
LOCATION:Vereinsheim\, Kirchplatz 10\, Gollenshausen a. Chiemsee\, 83257
END:VEVENT
BEGIN:VEVENT
DTSTART;TZID=Europe/Berlin:20260213T170000
DTEND;TZID=Europe/Berlin:20260213T213000
DTSTAMP:20260420T113634
CREATED:20250921T161540Z
LAST-MODIFIED:20250921T161540Z
UID:4056-1771002000-1771018200@sg-gollenshausen.de
SUMMARY:Faschingsschießen
DESCRIPTION:Lichtgewehr 17:00 | Jugend 18:00 | Erwachsene 19:30
URL:https://sg-gollenshausen.de/event/faschingsschiessen-5/
LOCATION:Vereinsheim\, Kirchplatz 10\, Gollenshausen a. Chiemsee\, 83257
END:VEVENT
BEGIN:VEVENT
DTSTART;TZID=Europe/Berlin:20260206T170000
DTEND;TZID=Europe/Berlin:20260206T213000
DTSTAMP:20260420T113634
CREATED:20250921T161452Z
LAST-MODIFIED:20250921T161452Z
UID:4054-1770397200-1770413400@sg-gollenshausen.de
SUMMARY:Freundschaftsschießen mit Isinger Schützen
DESCRIPTION:Lichtgewehr 17:00 | Jugend 18:00 | Erwachsene 19:30
URL:https://sg-gollenshausen.de/event/freundschaftsschiessen-mit-isinger-schuetzen/
LOCATION:Vereinsheim\, Kirchplatz 10\, Gollenshausen a. Chiemsee\, 83257
END:VEVENT
BEGIN:VEVENT
DTSTART;TZID=Europe/Berlin:20260130T170000
DTEND;TZID=Europe/Berlin:20260130T213000
DTSTAMP:20260420T113634
CREATED:20250921T161404Z
LAST-MODIFIED:20250921T161404Z
UID:4052-1769792400-1769808600@sg-gollenshausen.de
SUMMARY:Traditionsschießen Teil 4
DESCRIPTION:Lichtgewehr 17:00 | Jugend 18:00 | Erwachsene 19:30
URL:https://sg-gollenshausen.de/event/traditionsschiessen-teil-4-5/
LOCATION:Vereinsheim\, Kirchplatz 10\, Gollenshausen a. Chiemsee\, 83257
END:VEVENT
BEGIN:VEVENT
DTSTART;TZID=Europe/Berlin:20260124T193000
DTEND;TZID=Europe/Berlin:20260124T213000
DTSTAMP:20260420T113634
CREATED:20250921T161306Z
LAST-MODIFIED:20250921T161321Z
UID:4050-1769283000-1769290200@sg-gollenshausen.de
SUMMARY:Jahreshauptversammlung mit Königsproklamation
DESCRIPTION:
URL:https://sg-gollenshausen.de/event/jahreshauptversammlung-mit-koenigsproklamation-3/
LOCATION:Vereinsheim\, Kirchplatz 10\, Gollenshausen a. Chiemsee\, 83257
END:VEVENT
BEGIN:VEVENT
DTSTART;TZID=Europe/Berlin:20260123T170000
DTEND;TZID=Europe/Berlin:20260123T213000
DTSTAMP:20260420T113634
CREATED:20250921T161218Z
LAST-MODIFIED:20250921T161218Z
UID:4048-1769187600-1769203800@sg-gollenshausen.de
SUMMARY:Königschießen Teil 2
DESCRIPTION:Lichtgewehr 17:00 | Jugend 18:00 | Erwachsene 19:30
URL:https://sg-gollenshausen.de/event/koenigschiessen-teil-2-3/
LOCATION:Vereinsheim\, Kirchplatz 10\, Gollenshausen a. Chiemsee\, 83257
END:VEVENT
BEGIN:VEVENT
DTSTART;TZID=Europe/Berlin:20260116T170000
DTEND;TZID=Europe/Berlin:20260116T213000
DTSTAMP:20260420T113634
CREATED:20250921T161140Z
LAST-MODIFIED:20250921T161140Z
UID:4046-1768582800-1768599000@sg-gollenshausen.de
SUMMARY:Königschießen Teil 1
DESCRIPTION:Lichtgewehr 17:00 | Jugend 18:00 | Erwachsene 19:30
URL:https://sg-gollenshausen.de/event/koenigschiessen-teil-1-3/
LOCATION:Vereinsheim\, Kirchplatz 10\, Gollenshausen a. Chiemsee\, 83257
END:VEVENT
BEGIN:VEVENT
DTSTART;TZID=Europe/Berlin:20260105T180000
DTEND;TZID=Europe/Berlin:20260105T220000
DTSTAMP:20260420T113634
CREATED:20250921T161049Z
LAST-MODIFIED:20251013T180439Z
UID:4044-1767636000-1767650400@sg-gollenshausen.de
SUMMARY:Christbaumversteigerung (wir sind Gäste)
DESCRIPTION:
URL:https://sg-gollenshausen.de/event/christbaumversteigerung/
LOCATION:Mesnerwirt\, Söllerstraße 4\, Gollenshausen\, 83257
END:VEVENT
BEGIN:VEVENT
DTSTART;TZID=Europe/Berlin:20251219T170000
DTEND;TZID=Europe/Berlin:20251219T213000
DTSTAMP:20260420T113634
CREATED:20250921T160929Z
LAST-MODIFIED:20250921T160929Z
UID:4042-1766163600-1766179800@sg-gollenshausen.de
SUMMARY:Traditionsschießen Teil 3
DESCRIPTION:Lichtgewehr 17:00 | Jugend 18:00 | Erwachsene 19:30
URL:https://sg-gollenshausen.de/event/traditionsschiessen-teil-3-4/
LOCATION:Vereinsheim\, Kirchplatz 10\, Gollenshausen a. Chiemsee\, 83257
END:VEVENT
BEGIN:VEVENT
DTSTART;TZID=Europe/Berlin:20251212T170000
DTEND;TZID=Europe/Berlin:20251212T213000
DTSTAMP:20260420T113634
CREATED:20250921T160846Z
LAST-MODIFIED:20250921T160846Z
UID:4040-1765558800-1765575000@sg-gollenshausen.de
SUMMARY:Weihnachtsschießen zugunsten der Jugendkasse
DESCRIPTION:Lichtgewehr 17:00 | Jugend 18:00 | Erwachsene 19:30
URL:https://sg-gollenshausen.de/event/weihnachtsschiessen-zugunsten-der-jugendkasse-2/
LOCATION:Vereinsheim\, Kirchplatz 10\, Gollenshausen a. Chiemsee\, 83257
END:VEVENT
BEGIN:VEVENT
DTSTART;TZID=Europe/Berlin:20251205T170000
DTEND;TZID=Europe/Berlin:20251205T213000
DTSTAMP:20260420T113634
CREATED:20250921T160744Z
LAST-MODIFIED:20250921T162731Z
UID:4038-1764954000-1764970200@sg-gollenshausen.de
SUMMARY:Traditionsschießen Teil 2
DESCRIPTION:Lichtgewehr 17:00 | Jugend 18:00 | Erwachsene 19:30
URL:https://sg-gollenshausen.de/event/traditionsschiessen-teil-2-4/
LOCATION:Vereinsheim\, Kirchplatz 10\, Gollenshausen a. Chiemsee\, 83257
END:VEVENT
BEGIN:VEVENT
DTSTART;TZID=Europe/Berlin:20251121T170000
DTEND;TZID=Europe/Berlin:20251121T213000
DTSTAMP:20260420T113634
CREATED:20250921T160542Z
LAST-MODIFIED:20250921T160542Z
UID:4034-1763744400-1763760600@sg-gollenshausen.de
SUMMARY:Wander- Jugend- Kinderpokal und Wahl Jugendsprecher\, -leiter
DESCRIPTION:Lichtgewehr 17:00 | Jugend 18:00 | Erwachsene 19:30
URL:https://sg-gollenshausen.de/event/wander-jugend-kinderpokal-und-wahl-jugendsprecher-leiter/
LOCATION:Vereinsheim\, Kirchplatz 10\, Gollenshausen a. Chiemsee\, 83257
END:VEVENT
BEGIN:VEVENT
DTSTART;TZID=Europe/Berlin:20251107T170000
DTEND;TZID=Europe/Berlin:20251107T213000
DTSTAMP:20260420T113634
CREATED:20250921T160319Z
LAST-MODIFIED:20250921T160319Z
UID:4032-1762534800-1762551000@sg-gollenshausen.de
SUMMARY:Traditionsschießen Teil 1
DESCRIPTION:Lichtgewehr 17:00 | Jugend 18:00 | Erwachsene 19:30
URL:https://sg-gollenshausen.de/event/traditionsschiessen-teil-1-5/
LOCATION:Vereinsheim\, Kirchplatz 10\, Gollenshausen a. Chiemsee\, 83257
END:VEVENT
BEGIN:VEVENT
DTSTART;TZID=Europe/Berlin:20251026T193000
DTEND;TZID=Europe/Berlin:20251026T213000
DTSTAMP:20260420T113634
CREATED:20250921T160213Z
LAST-MODIFIED:20250921T160213Z
UID:4030-1761507000-1761514200@sg-gollenshausen.de
SUMMARY:Dorfkönigschießen Preisverteilung Erwachsene
DESCRIPTION:
URL:https://sg-gollenshausen.de/event/dorfkoenigschiessen-preisverteilung-erwachsene/
LOCATION:Vereinsheim\, Kirchplatz 10\, Gollenshausen a. Chiemsee\, 83257
END:VEVENT
BEGIN:VEVENT
DTSTART;TZID=Europe/Berlin:20251026T100000
DTEND;TZID=Europe/Berlin:20251026T130000
DTSTAMP:20260420T113634
CREATED:20250921T160108Z
LAST-MODIFIED:20250921T160108Z
UID:4028-1761472800-1761483600@sg-gollenshausen.de
SUMMARY:Dorfkönigschießen mit Frühschoppen
DESCRIPTION:10:00 bis 13:00 Dorfkönigschießen mit Frühschoppen \n11:00 Preisverteilung Lichtgewehr \n19:30 Preisverteilung Erwachsene
URL:https://sg-gollenshausen.de/event/dorfkoenigschiessen-mit-fruehschoppen-3/
LOCATION:Vereinsheim\, Kirchplatz 10\, Gollenshausen a. Chiemsee\, 83257
END:VEVENT
BEGIN:VEVENT
DTSTART;TZID=Europe/Berlin:20251024T170000
DTEND;TZID=Europe/Berlin:20251024T213000
DTSTAMP:20260420T113634
CREATED:20250921T155857Z
LAST-MODIFIED:20250921T155857Z
UID:4026-1761325200-1761341400@sg-gollenshausen.de
SUMMARY:Dorfkönigschießen
DESCRIPTION:Lichtgewehr ab 17:00 (nur an diesem Tag möglich) \nErwachsene ab 19:30
URL:https://sg-gollenshausen.de/event/dorfkoenigschiessen-3/
LOCATION:Vereinsheim\, Kirchplatz 10\, Gollenshausen a. Chiemsee\, 83257
END:VEVENT
BEGIN:VEVENT
DTSTART;TZID=Europe/Berlin:20251017T170000
DTEND;TZID=Europe/Berlin:20251017T170000
DTSTAMP:20260420T113634
CREATED:20250511T190331Z
LAST-MODIFIED:20250511T190331Z
UID:3980-1760720400-1760720400@sg-gollenshausen.de
SUMMARY:Anfangsschießen
DESCRIPTION:Lichtgewehr 17:00 | Jugend 18:00 | Erwachsene 19:30
URL:https://sg-gollenshausen.de/event/anfangsschiessen-3/
LOCATION:Vereinsheim\, Kirchplatz 10\, Gollenshausen a. Chiemsee\, 83257
END:VEVENT
BEGIN:VEVENT
DTSTART;TZID=Europe/Berlin:20250830T100000
DTEND;TZID=Europe/Berlin:20250830T170000
DTSTAMP:20260420T113634
CREATED:20250511T190144Z
LAST-MODIFIED:20250611T165829Z
UID:3978-1756548000-1756573200@sg-gollenshausen.de
SUMMARY:Vereinsausflug - Alzfloßfahrt
DESCRIPTION:ab Seebruck
URL:https://sg-gollenshausen.de/event/vereinsausflug-alzflossfahrt/
END:VEVENT
BEGIN:VEVENT
DTSTART;VALUE=DATE:20250719
DTEND;VALUE=DATE:20250720
DTSTAMP:20260420T113634
CREATED:20240913T130041Z
LAST-MODIFIED:20240913T130041Z
UID:3554-1752883200-1752969599@sg-gollenshausen.de
SUMMARY:Beachparty 2025 Ausweichtermin
DESCRIPTION:
URL:https://sg-gollenshausen.de/event/beachparty-2025-ausweichtermin/
LOCATION:Strandbad Gollenshausen a. Chiemsee
ORGANIZER;CN="Sch%C3%BCtzengilde Gollenshausen":MAILTO:info@sg-gollenshausen.de
END:VEVENT
BEGIN:VEVENT
DTSTART;VALUE=DATE:20250712
DTEND;VALUE=DATE:20250713
DTSTAMP:20260420T113634
CREATED:20240913T125942Z
LAST-MODIFIED:20250709T104529Z
UID:3552-1752278400-1752364799@sg-gollenshausen.de
SUMMARY:Beachparty 2025
DESCRIPTION:Schützengilde mit SKK Gollenshausen
URL:https://sg-gollenshausen.de/event/beachparty-2025/
LOCATION:Strandbad Gollenshausen a. Chiemsee
ORGANIZER;CN="Sch%C3%BCtzengilde Gollenshausen":MAILTO:info@sg-gollenshausen.de
END:VEVENT
BEGIN:VEVENT
DTSTART;TZID=Europe/Berlin:20250629T100000
DTEND;TZID=Europe/Berlin:20250629T140000
DTSTAMP:20260420T113634
CREATED:20250511T190029Z
LAST-MODIFIED:20250512T172327Z
UID:3976-1751191200-1751205600@sg-gollenshausen.de
SUMMARY:Sautrogrennen der FFW Gollenshausen mit Frühschoppen
DESCRIPTION:Wir gehen fleißig hin\, Frühschoppen
URL:https://sg-gollenshausen.de/event/sautrogrennen-der-ffw-gollenshausen-mit-fruehschoppen/
LOCATION:Strandbad Gollenshausen a. Chiemsee
END:VEVENT
BEGIN:VEVENT
DTSTART;TZID=Europe/Berlin:20250619T190000
DTEND;TZID=Europe/Berlin:20250619T200000
DTSTAMP:20260420T113634
CREATED:20250511T185909Z
LAST-MODIFIED:20250511T185909Z
UID:3974-1750359600-1750363200@sg-gollenshausen.de
SUMMARY:Fronleichnams-Umzug
DESCRIPTION:
URL:https://sg-gollenshausen.de/event/fronleichnams-umzug/
END:VEVENT
BEGIN:VEVENT
DTSTART;TZID=Europe/Berlin:20250615T094000
DTEND;TZID=Europe/Berlin:20250615T120000
DTSTAMP:20260420T113634
CREATED:20250511T185827Z
LAST-MODIFIED:20250511T185827Z
UID:3972-1749980400-1749988800@sg-gollenshausen.de
SUMMARY:150 Jahrfeier der Veteranen\, Kirchenzug
DESCRIPTION:Aufstellung beim Mesnerwirt
URL:https://sg-gollenshausen.de/event/150-jahrfeier-der-veteranen-kirchenzug/
END:VEVENT
BEGIN:VEVENT
DTSTART;TZID=Europe/Berlin:20250614T184500
DTEND;TZID=Europe/Berlin:20250614T200000
DTSTAMP:20260420T113634
CREATED:20250511T185735Z
LAST-MODIFIED:20250511T185735Z
UID:3970-1749926700-1749931200@sg-gollenshausen.de
SUMMARY:150 Jahrfeier der Veteranen\, Totengedenken
DESCRIPTION:Aufstellung beim Mesnerwirt
URL:https://sg-gollenshausen.de/event/150-jahrfeier-der-veteranen-totengedenken/
END:VEVENT
END:VCALENDAR