BEGIN:VCALENDAR
VERSION:2.0
PRODID:-//SCHÜTZENGILDE GOLLENSHAUSEN - ECPv6.15.20//NONSGML v1.0//EN
CALSCALE:GREGORIAN
METHOD:PUBLISH
X-ORIGINAL-URL:https://sg-gollenshausen.de
X-WR-CALDESC:Veranstaltungen für SCHÜTZENGILDE GOLLENSHAUSEN
REFRESH-INTERVAL;VALUE=DURATION:PT1H
X-Robots-Tag:noindex
X-PUBLISHED-TTL:PT1H
BEGIN:VTIMEZONE
TZID:Europe/Paris
BEGIN:DAYLIGHT
TZOFFSETFROM:+0100
TZOFFSETTO:+0200
TZNAME:CEST
DTSTART:20200329T010000
END:DAYLIGHT
BEGIN:STANDARD
TZOFFSETFROM:+0200
TZOFFSETTO:+0100
TZNAME:CET
DTSTART:20201025T010000
END:STANDARD
BEGIN:DAYLIGHT
TZOFFSETFROM:+0100
TZOFFSETTO:+0200
TZNAME:CEST
DTSTART:20210328T010000
END:DAYLIGHT
BEGIN:STANDARD
TZOFFSETFROM:+0200
TZOFFSETTO:+0100
TZNAME:CET
DTSTART:20211031T010000
END:STANDARD
BEGIN:DAYLIGHT
TZOFFSETFROM:+0100
TZOFFSETTO:+0200
TZNAME:CEST
DTSTART:20220327T010000
END:DAYLIGHT
BEGIN:STANDARD
TZOFFSETFROM:+0200
TZOFFSETTO:+0100
TZNAME:CET
DTSTART:20221030T010000
END:STANDARD
END:VTIMEZONE
BEGIN:VEVENT
DTSTART;TZID=Europe/Paris:20211112T170000
DTEND;TZID=Europe/Paris:20211112T210000
DTSTAMP:20260424T121208
CREATED:20211130T195712Z
LAST-MODIFIED:20211130T195712Z
UID:467-1636736400-1636750800@sg-gollenshausen.de
SUMMARY:Traditionsschießen Teil 2
DESCRIPTION:
URL:https://sg-gollenshausen.de/event/traditionsschiessen-teil-2/
LOCATION:Vereinsheim\, Kirchplatz 10\, Gollenshausen a. Chiemsee\, 83257
ORGANIZER;CN="Sch%C3%BCtzengilde Gollenshausen":MAILTO:info@sg-gollenshausen.de
END:VEVENT
BEGIN:VEVENT
DTSTART;TZID=Europe/Paris:20211126T170000
DTEND;TZID=Europe/Paris:20211126T210000
DTSTAMP:20260424T121208
CREATED:20211130T195645Z
LAST-MODIFIED:20211130T195645Z
UID:461-1637946000-1637960400@sg-gollenshausen.de
SUMMARY:Wander- und Jugendpokal (Abgesagt)
DESCRIPTION:Abgesagt aufgrund gesetzlicher Verordnungen zum Schutz vor Covid-19
URL:https://sg-gollenshausen.de/event/wander-und-jugendpokal-abgesagt/
LOCATION:Vereinsheim\, Kirchplatz 10\, Gollenshausen a. Chiemsee\, 83257
ORGANIZER;CN="Sch%C3%BCtzengilde Gollenshausen":MAILTO:info@sg-gollenshausen.de
END:VEVENT
END:VCALENDAR