BEGIN:VCALENDAR
VERSION:2.0
PRODID:-//SCHÜTZENGILDE GOLLENSHAUSEN - ECPv6.15.20//NONSGML v1.0//EN
CALSCALE:GREGORIAN
METHOD:PUBLISH
X-ORIGINAL-URL:https://sg-gollenshausen.de
X-WR-CALDESC:Veranstaltungen für SCHÜTZENGILDE GOLLENSHAUSEN
REFRESH-INTERVAL;VALUE=DURATION:PT1H
X-Robots-Tag:noindex
X-PUBLISHED-TTL:PT1H
BEGIN:VTIMEZONE
TZID:Europe/Paris
BEGIN:DAYLIGHT
TZOFFSETFROM:+0100
TZOFFSETTO:+0200
TZNAME:CEST
DTSTART:20210328T010000
END:DAYLIGHT
BEGIN:STANDARD
TZOFFSETFROM:+0200
TZOFFSETTO:+0100
TZNAME:CET
DTSTART:20211031T010000
END:STANDARD
BEGIN:DAYLIGHT
TZOFFSETFROM:+0100
TZOFFSETTO:+0200
TZNAME:CEST
DTSTART:20220327T010000
END:DAYLIGHT
BEGIN:STANDARD
TZOFFSETFROM:+0200
TZOFFSETTO:+0100
TZNAME:CET
DTSTART:20221030T010000
END:STANDARD
BEGIN:DAYLIGHT
TZOFFSETFROM:+0100
TZOFFSETTO:+0200
TZNAME:CEST
DTSTART:20230326T010000
END:DAYLIGHT
BEGIN:STANDARD
TZOFFSETFROM:+0200
TZOFFSETTO:+0100
TZNAME:CET
DTSTART:20231029T010000
END:STANDARD
END:VTIMEZONE
BEGIN:VTIMEZONE
TZID:Europe/Berlin
BEGIN:DAYLIGHT
TZOFFSETFROM:+0100
TZOFFSETTO:+0200
TZNAME:CEST
DTSTART:20210328T010000
END:DAYLIGHT
BEGIN:STANDARD
TZOFFSETFROM:+0200
TZOFFSETTO:+0100
TZNAME:CET
DTSTART:20211031T010000
END:STANDARD
BEGIN:DAYLIGHT
TZOFFSETFROM:+0100
TZOFFSETTO:+0200
TZNAME:CEST
DTSTART:20220327T010000
END:DAYLIGHT
BEGIN:STANDARD
TZOFFSETFROM:+0200
TZOFFSETTO:+0100
TZNAME:CET
DTSTART:20221030T010000
END:STANDARD
BEGIN:DAYLIGHT
TZOFFSETFROM:+0100
TZOFFSETTO:+0200
TZNAME:CEST
DTSTART:20230326T010000
END:DAYLIGHT
BEGIN:STANDARD
TZOFFSETFROM:+0200
TZOFFSETTO:+0100
TZNAME:CET
DTSTART:20231029T010000
END:STANDARD
END:VTIMEZONE
BEGIN:VEVENT
DTSTART;TZID=Europe/Paris:20220304T193000
DTEND;TZID=Europe/Paris:20220304T210000
DTSTAMP:20260421T231003
CREATED:20211204T111419Z
LAST-MODIFIED:20211204T111419Z
UID:920-1646422200-1646427600@sg-gollenshausen.de
SUMMARY:Traditionsschießen Teil 6
DESCRIPTION:
URL:https://sg-gollenshausen.de/event/traditionsschiessen-teil-6/
LOCATION:Vereinsheim\, Kirchplatz 10\, Gollenshausen a. Chiemsee\, 83257
ORGANIZER;CN="Sch%C3%BCtzengilde Gollenshausen":MAILTO:info@sg-gollenshausen.de
END:VEVENT
BEGIN:VEVENT
DTSTART;TZID=Europe/Berlin:20220304T193000
DTEND;TZID=Europe/Berlin:20220304T213000
DTSTAMP:20260421T231003
CREATED:20220131T183821Z
LAST-MODIFIED:20220217T183020Z
UID:1310-1646422200-1646429400@sg-gollenshausen.de
SUMMARY:Geburtstagsscheibe Peter Asbach
DESCRIPTION:Anlässlich seines runden Geburtstags stiftet Peter Asbach eine wunderschöne Scheibe\, die der Schütze mit dem besten Schuss gewinnen kann.
URL:https://sg-gollenshausen.de/event/geburtstagsscheibe-peter-asbach/
LOCATION:Vereinsheim\, Kirchplatz 10\, Gollenshausen a. Chiemsee\, 83257
ORGANIZER;CN="Sch%C3%BCtzengilde Gollenshausen":MAILTO:info@sg-gollenshausen.de
END:VEVENT
BEGIN:VEVENT
DTSTART;TZID=Europe/Paris:20220318T193000
DTEND;TZID=Europe/Paris:20220318T210000
DTSTAMP:20260421T231003
CREATED:20211204T111847Z
LAST-MODIFIED:20211204T111847Z
UID:922-1647631800-1647637200@sg-gollenshausen.de
SUMMARY:Vereinsscheibe
DESCRIPTION:
URL:https://sg-gollenshausen.de/event/vereinsscheibe/
LOCATION:Vereinsheim\, Kirchplatz 10\, Gollenshausen a. Chiemsee\, 83257
ORGANIZER;CN="Sch%C3%BCtzengilde Gollenshausen":MAILTO:info@sg-gollenshausen.de
END:VEVENT
END:VCALENDAR