BEGIN:VCALENDAR
VERSION:2.0
PRODID:-//SCHÜTZENGILDE GOLLENSHAUSEN - ECPv6.15.20//NONSGML v1.0//EN
CALSCALE:GREGORIAN
METHOD:PUBLISH
X-ORIGINAL-URL:https://sg-gollenshausen.de
X-WR-CALDESC:Veranstaltungen für SCHÜTZENGILDE GOLLENSHAUSEN
REFRESH-INTERVAL;VALUE=DURATION:PT1H
X-Robots-Tag:noindex
X-PUBLISHED-TTL:PT1H
BEGIN:VTIMEZONE
TZID:Europe/Berlin
BEGIN:DAYLIGHT
TZOFFSETFROM:+0100
TZOFFSETTO:+0200
TZNAME:CEST
DTSTART:20210328T010000
END:DAYLIGHT
BEGIN:STANDARD
TZOFFSETFROM:+0200
TZOFFSETTO:+0100
TZNAME:CET
DTSTART:20211031T010000
END:STANDARD
BEGIN:DAYLIGHT
TZOFFSETFROM:+0100
TZOFFSETTO:+0200
TZNAME:CEST
DTSTART:20220327T010000
END:DAYLIGHT
BEGIN:STANDARD
TZOFFSETFROM:+0200
TZOFFSETTO:+0100
TZNAME:CET
DTSTART:20221030T010000
END:STANDARD
BEGIN:DAYLIGHT
TZOFFSETFROM:+0100
TZOFFSETTO:+0200
TZNAME:CEST
DTSTART:20230326T010000
END:DAYLIGHT
BEGIN:STANDARD
TZOFFSETFROM:+0200
TZOFFSETTO:+0100
TZNAME:CET
DTSTART:20231029T010000
END:STANDARD
END:VTIMEZONE
BEGIN:VEVENT
DTSTART;TZID=Europe/Berlin:20220709T190000
DTEND;TZID=Europe/Berlin:20220709T235900
DTSTAMP:20260421T174223
CREATED:20220222T191419Z
LAST-MODIFIED:20220619T142921Z
UID:1542-1657393200-1657411140@sg-gollenshausen.de
SUMMARY:Beachparty
DESCRIPTION:Am 9. Juli 2022 veranstaltet die Schützengilde (SG) Gollenshausen zusammen mit der Soldaten- und Kriegerkameradschaft (SKK) Gollenshausen die „Chiemsee Beachparty“ am Strandbad Gollenshausen\, siehe große Anzeige. \nAls Mahner des Friedens hält die Soldaten und Kriegerkameradschaft Gollenshausen die Erinnerung an die Opfer der Weltkriege hoch. Die Schützengilde Gollenshausen e.V. engagiert sich sehr für den Nachwuchs im Verein und versteht sich auch als Ort gesellschaftlicher Begegnung insbesondere in der Winterzeit von Oktober bis Ostern. \nDie Vereine laden herzlich zur Chiemsee Beachparty ein und wünschen allen Gästen ein friedliches\, sowie unvergessliches Sommerfest. \nBitte informiert euch auf https://www.sg-gollenshausen.de über kurzfristige Mitteilungen.
URL:https://sg-gollenshausen.de/event/beachparty-ausweichtermin/
ORGANIZER;CN="Sch%C3%BCtzengilde Gollenshausen":MAILTO:info@sg-gollenshausen.de
END:VEVENT
END:VCALENDAR