BEGIN:VCALENDAR
VERSION:2.0
PRODID:-//SCHÜTZENGILDE GOLLENSHAUSEN - ECPv6.15.20//NONSGML v1.0//EN
CALSCALE:GREGORIAN
METHOD:PUBLISH
X-ORIGINAL-URL:https://sg-gollenshausen.de
X-WR-CALDESC:Veranstaltungen für SCHÜTZENGILDE GOLLENSHAUSEN
REFRESH-INTERVAL;VALUE=DURATION:PT1H
X-Robots-Tag:noindex
X-PUBLISHED-TTL:PT1H
BEGIN:VTIMEZONE
TZID:Europe/Berlin
BEGIN:DAYLIGHT
TZOFFSETFROM:+0100
TZOFFSETTO:+0200
TZNAME:CEST
DTSTART:20220327T010000
END:DAYLIGHT
BEGIN:STANDARD
TZOFFSETFROM:+0200
TZOFFSETTO:+0100
TZNAME:CET
DTSTART:20221030T010000
END:STANDARD
BEGIN:DAYLIGHT
TZOFFSETFROM:+0100
TZOFFSETTO:+0200
TZNAME:CEST
DTSTART:20230326T010000
END:DAYLIGHT
BEGIN:STANDARD
TZOFFSETFROM:+0200
TZOFFSETTO:+0100
TZNAME:CET
DTSTART:20231029T010000
END:STANDARD
BEGIN:DAYLIGHT
TZOFFSETFROM:+0100
TZOFFSETTO:+0200
TZNAME:CEST
DTSTART:20240331T010000
END:DAYLIGHT
BEGIN:STANDARD
TZOFFSETFROM:+0200
TZOFFSETTO:+0100
TZNAME:CET
DTSTART:20241027T010000
END:STANDARD
END:VTIMEZONE
BEGIN:VEVENT
DTSTART;TZID=Europe/Berlin:20231013T170000
DTEND;TZID=Europe/Berlin:20231013T220000
DTSTAMP:20260420T200751
CREATED:20230208T204220Z
LAST-MODIFIED:20230208T204220Z
UID:2449-1697216400-1697234400@sg-gollenshausen.de
SUMMARY:Anfangsschießen - Eröffnung der Saison
DESCRIPTION:
URL:https://sg-gollenshausen.de/event/anfangsschiessen-eroeffnung-der-saison/
LOCATION:Vereinsheim\, Kirchplatz 10\, Gollenshausen a. Chiemsee\, 83257
ORGANIZER;CN="Sch%C3%BCtzengilde Gollenshausen":MAILTO:info@sg-gollenshausen.de
END:VEVENT
BEGIN:VEVENT
DTSTART;TZID=Europe/Berlin:20231013T170000
DTEND;TZID=Europe/Berlin:20231013T220000
DTSTAMP:20260420T200751
CREATED:20231008T141531Z
LAST-MODIFIED:20231008T141531Z
UID:2842-1697216400-1697234400@sg-gollenshausen.de
SUMMARY:Jahresanfangsschießen mit Anfangsscheibe
DESCRIPTION:Lichtgewehr ab 17:00 \nJugend ab 18:00 \nErwachsene ab 19:30
URL:https://sg-gollenshausen.de/event/jahresanfangsschiessen-mit-anfangsscheibe/
LOCATION:Vereinsheim\, Kirchplatz 10\, Gollenshausen a. Chiemsee\, 83257
END:VEVENT
BEGIN:VEVENT
DTSTART;TZID=Europe/Berlin:20231020T170000
DTEND;TZID=Europe/Berlin:20231020T220000
DTSTAMP:20260420T200751
CREATED:20231008T141653Z
LAST-MODIFIED:20231014T131434Z
UID:2844-1697821200-1697839200@sg-gollenshausen.de
SUMMARY:Dorfkönigschießen
DESCRIPTION:Lichtgewehr ab 17:00 (nur an diesem Abend möglich) \nJugend ab 18:00 \nErwachsene ab 19:30
URL:https://sg-gollenshausen.de/event/dorfkoenigschiessen-2/
LOCATION:Vereinsheim\, Kirchplatz 10\, Gollenshausen a. Chiemsee\, 83257
END:VEVENT
BEGIN:VEVENT
DTSTART;TZID=Europe/Berlin:20231022T100000
DTEND;TZID=Europe/Berlin:20231022T130000
DTSTAMP:20260420T200751
CREATED:20231008T141852Z
LAST-MODIFIED:20231014T131519Z
UID:2846-1697968800-1697979600@sg-gollenshausen.de
SUMMARY:Dorfkönigschießen mit Frühschoppen
DESCRIPTION:Erwachsene können an diesem Tag noch Ihr Glück versuchen \n11:00 Uhr Preisverteilung Lichtgewehr – Dorfkönig\n19:30 Uhr Preisverteilung Erwachsene – Dorfkönig
URL:https://sg-gollenshausen.de/event/dorfkoenigschiessen-mit-fruehschoppen/
LOCATION:Vereinsheim\, Kirchplatz 10\, Gollenshausen a. Chiemsee\, 83257
END:VEVENT
BEGIN:VEVENT
DTSTART;TZID=Europe/Berlin:20231022T193000
DTEND;TZID=Europe/Berlin:20231022T213000
DTSTAMP:20260420T200751
CREATED:20231008T141935Z
LAST-MODIFIED:20231014T131707Z
UID:2848-1698003000-1698010200@sg-gollenshausen.de
SUMMARY:Preisverteilung Dorfkönigschießen
DESCRIPTION:
URL:https://sg-gollenshausen.de/event/preisverteilung-dorfkoenigschiessen/
LOCATION:Vereinsheim\, Kirchplatz 10\, Gollenshausen a. Chiemsee\, 83257
END:VEVENT
END:VCALENDAR