BEGIN:VCALENDAR
VERSION:2.0
PRODID:-//SCHÜTZENGILDE GOLLENSHAUSEN - ECPv6.15.20//NONSGML v1.0//EN
CALSCALE:GREGORIAN
METHOD:PUBLISH
X-ORIGINAL-URL:https://sg-gollenshausen.de
X-WR-CALDESC:Veranstaltungen für SCHÜTZENGILDE GOLLENSHAUSEN
REFRESH-INTERVAL;VALUE=DURATION:PT1H
X-Robots-Tag:noindex
X-PUBLISHED-TTL:PT1H
BEGIN:VTIMEZONE
TZID:Europe/Berlin
BEGIN:DAYLIGHT
TZOFFSETFROM:+0100
TZOFFSETTO:+0200
TZNAME:CEST
DTSTART:20220327T010000
END:DAYLIGHT
BEGIN:STANDARD
TZOFFSETFROM:+0200
TZOFFSETTO:+0100
TZNAME:CET
DTSTART:20221030T010000
END:STANDARD
BEGIN:DAYLIGHT
TZOFFSETFROM:+0100
TZOFFSETTO:+0200
TZNAME:CEST
DTSTART:20230326T010000
END:DAYLIGHT
BEGIN:STANDARD
TZOFFSETFROM:+0200
TZOFFSETTO:+0100
TZNAME:CET
DTSTART:20231029T010000
END:STANDARD
BEGIN:DAYLIGHT
TZOFFSETFROM:+0100
TZOFFSETTO:+0200
TZNAME:CEST
DTSTART:20240331T010000
END:DAYLIGHT
BEGIN:STANDARD
TZOFFSETFROM:+0200
TZOFFSETTO:+0100
TZNAME:CET
DTSTART:20241027T010000
END:STANDARD
END:VTIMEZONE
BEGIN:VEVENT
DTSTART;TZID=Europe/Berlin:20231208T170000
DTEND;TZID=Europe/Berlin:20231208T220000
DTSTAMP:20260420T171302
CREATED:20231008T142421Z
LAST-MODIFIED:20231207T175259Z
UID:2858-1702054800-1702072800@sg-gollenshausen.de
SUMMARY:Hochzeitsscheibe Andreas & Simone
DESCRIPTION:Lichtgewehr 17:00 | Jugend 18:00 | Erwachsene 19:30
URL:https://sg-gollenshausen.de/event/traditionsschiessen-teil-3-2/
LOCATION:Vereinsheim\, Kirchplatz 10\, Gollenshausen a. Chiemsee\, 83257
END:VEVENT
BEGIN:VEVENT
DTSTART;TZID=Europe/Berlin:20231215T170000
DTEND;TZID=Europe/Berlin:20231215T220000
DTSTAMP:20260420T171302
CREATED:20231008T142600Z
LAST-MODIFIED:20231008T142600Z
UID:2860-1702659600-1702677600@sg-gollenshausen.de
SUMMARY:Weihnachtsschießen - Erlös zugunsten Jugendkasse
DESCRIPTION:Lichtgewehr 17:00 | Jugend 18:00 | Erwachsene 19:30
URL:https://sg-gollenshausen.de/event/weihnachtsschiessen-erloes-zugunsten-jugendkasse/
LOCATION:Vereinsheim\, Kirchplatz 10\, Gollenshausen a. Chiemsee\, 83257
END:VEVENT
BEGIN:VEVENT
DTSTART;TZID=Europe/Berlin:20231230T090000
DTEND;TZID=Europe/Berlin:20231230T170000
DTSTAMP:20260420T171302
CREATED:20231118T144459Z
LAST-MODIFIED:20231118T145628Z
UID:3020-1703926800-1703955600@sg-gollenshausen.de
SUMMARY:Gauschießen Lichtgewehr und Lichtpistolen des Schützengaues Chiemgau-Prien
DESCRIPTION:Unter der Leitung von:\n1. Gau Gewehr Trainer Andi Wimmer\,\nund 1. SM Andreas Schnell\, Schützengilde Gollenshausen\, \nfindet das 15. Lichtgewehr- und Lichtpistolen-Gauschießen und die Gaumeisterschaft für die Lichtgewehr- und Lichtpistolenschützen des Schützengaues Chiemgau-Prien 2024 am Samstag 30. Dezember 2023 09°°-17°°Uhr statt. \nOrt: Schützengilde Gollenshausen\nNneben der Kirche am Schießstand\,\nKirchplatz 10\, 83257 Gollenshausen \nPreisverteilung am 4. Februar 2024 um 13°° Uhr\nIm Saal der Turnhalle Breitbrunn\, Am Sportplatz\nmit Catering durch Summerer Christa
URL:https://sg-gollenshausen.de/event/gauschiessen-lichtgewehr-und-lichtpistolen-des-schuetzengaues-chiemgau-prien/
LOCATION:Vereinsheim\, Kirchplatz 10\, Gollenshausen a. Chiemsee\, 83257
ORGANIZER;CN="Sch%C3%BCtzengilde Gollenshausen":MAILTO:info@sg-gollenshausen.de
END:VEVENT
END:VCALENDAR