BEGIN:VCALENDAR
VERSION:2.0
PRODID:-//SCHÜTZENGILDE GOLLENSHAUSEN - ECPv6.15.20//NONSGML v1.0//EN
CALSCALE:GREGORIAN
METHOD:PUBLISH
X-ORIGINAL-URL:https://sg-gollenshausen.de
X-WR-CALDESC:Veranstaltungen für SCHÜTZENGILDE GOLLENSHAUSEN
REFRESH-INTERVAL;VALUE=DURATION:PT1H
X-Robots-Tag:noindex
X-PUBLISHED-TTL:PT1H
BEGIN:VTIMEZONE
TZID:Europe/Berlin
BEGIN:DAYLIGHT
TZOFFSETFROM:+0100
TZOFFSETTO:+0200
TZNAME:CEST
DTSTART:20230326T010000
END:DAYLIGHT
BEGIN:STANDARD
TZOFFSETFROM:+0200
TZOFFSETTO:+0100
TZNAME:CET
DTSTART:20231029T010000
END:STANDARD
BEGIN:DAYLIGHT
TZOFFSETFROM:+0100
TZOFFSETTO:+0200
TZNAME:CEST
DTSTART:20240331T010000
END:DAYLIGHT
BEGIN:STANDARD
TZOFFSETFROM:+0200
TZOFFSETTO:+0100
TZNAME:CET
DTSTART:20241027T010000
END:STANDARD
BEGIN:DAYLIGHT
TZOFFSETFROM:+0100
TZOFFSETTO:+0200
TZNAME:CEST
DTSTART:20250330T010000
END:DAYLIGHT
BEGIN:STANDARD
TZOFFSETFROM:+0200
TZOFFSETTO:+0100
TZNAME:CET
DTSTART:20251026T010000
END:STANDARD
END:VTIMEZONE
BEGIN:VEVENT
DTSTART;TZID=Europe/Berlin:20240301T170000
DTEND;TZID=Europe/Berlin:20240301T220000
DTSTAMP:20260420T125344
CREATED:20231008T143127Z
LAST-MODIFIED:20231008T143127Z
UID:2874-1709312400-1709330400@sg-gollenshausen.de
SUMMARY:Vereinsscheibe
DESCRIPTION:Lichtgewehr 17:00 | Jugend 18:00 | Erwachsene 19:30
URL:https://sg-gollenshausen.de/event/vereinsscheibe-3/
LOCATION:Vereinsheim\, Kirchplatz 10\, Gollenshausen a. Chiemsee\, 83257
END:VEVENT
BEGIN:VEVENT
DTSTART;TZID=Europe/Berlin:20240307T193000
DTEND;TZID=Europe/Berlin:20240307T220000
DTSTAMP:20260420T125344
CREATED:20240217T204348Z
LAST-MODIFIED:20240217T204855Z
UID:3263-1709839800-1709848800@sg-gollenshausen.de
SUMMARY:Freundschaftsschießen in Seebruck
DESCRIPTION:
URL:https://sg-gollenshausen.de/event/freundschaftsschiessen-in-seebruck/
LOCATION:Seebruck – Hubertusschützen\, Pullacherstr. 5\, Seebruck\, 83358
END:VEVENT
BEGIN:VEVENT
DTSTART;TZID=Europe/Berlin:20240315T170000
DTEND;TZID=Europe/Berlin:20240315T220000
DTSTAMP:20260420T125344
CREATED:20231008T143203Z
LAST-MODIFIED:20231008T143203Z
UID:2876-1710522000-1710540000@sg-gollenshausen.de
SUMMARY:Traditionsschießen Teil 6
DESCRIPTION:Lichtgewehr 17:00 | Jugend 18:00 | Erwachsene 19:30
URL:https://sg-gollenshausen.de/event/traditionsschiessen-teil-6-3/
LOCATION:Vereinsheim\, Kirchplatz 10\, Gollenshausen a. Chiemsee\, 83257
END:VEVENT
BEGIN:VEVENT
DTSTART;TZID=Europe/Berlin:20240320T163000
DTEND;TZID=Europe/Berlin:20240320T200000
DTSTAMP:20260420T125344
CREATED:20240314T193107Z
LAST-MODIFIED:20240314T193107Z
UID:3322-1710952200-1710964800@sg-gollenshausen.de
SUMMARY:Jahrespreisverteilung Lichtgewehr
DESCRIPTION:
URL:https://sg-gollenshausen.de/event/jahrespreisverteilung-lichtgewehr/
LOCATION:Vereinsheim\, Kirchplatz 10\, Gollenshausen a. Chiemsee\, 83257
END:VEVENT
BEGIN:VEVENT
DTSTART;TZID=Europe/Berlin:20240322T170000
DTEND;TZID=Europe/Berlin:20240322T220000
DTSTAMP:20260420T125344
CREATED:20231008T143241Z
LAST-MODIFIED:20231008T143241Z
UID:2878-1711126800-1711144800@sg-gollenshausen.de
SUMMARY:Endschießen mit Endscheibe
DESCRIPTION:Lichtgewehr 17:00 | Jugend 18:00 | Erwachsene 19:30
URL:https://sg-gollenshausen.de/event/endschiessen-mit-endscheibe-3/
LOCATION:Vereinsheim\, Kirchplatz 10\, Gollenshausen a. Chiemsee\, 83257
END:VEVENT
END:VCALENDAR